Package: proDA Version: 1.16.0 Command: rm -rf proDA.buildbin-libdir && mkdir proDA.buildbin-libdir && F:\biocbuild\bbs-3.18-bioc\R\bin\R.exe CMD INSTALL --build --library=proDA.buildbin-libdir proDA_1.16.0.tar.gz StartedAt: 2024-04-16 07:27:58 -0400 (Tue, 16 Apr 2024) EndedAt: 2024-04-16 07:28:34 -0400 (Tue, 16 Apr 2024) EllapsedTime: 35.7 seconds RetCode: 0 Status: OK PackageFile: proDA_1.16.0.zip PackageFileSize: 1.079 MiB