Package: proDA Version: 1.16.0 Command: /home/biocbuild/bbs-3.18-bioc/R/bin/R CMD INSTALL proDA StartedAt: 2024-04-15 15:12:44 -0400 (Mon, 15 Apr 2024) EndedAt: 2024-04-15 15:13:06 -0400 (Mon, 15 Apr 2024) EllapsedTime: 22.0 seconds RetCode: 0 Status: OK