Package: proBAMr Version: 1.36.0 Command: rm -rf proBAMr.buildbin-libdir && mkdir proBAMr.buildbin-libdir && F:\biocbuild\bbs-3.18-bioc\R\bin\R.exe CMD INSTALL --build --library=proBAMr.buildbin-libdir proBAMr_1.36.0.tar.gz StartedAt: 2024-04-16 07:27:51 -0400 (Tue, 16 Apr 2024) EndedAt: 2024-04-16 07:28:48 -0400 (Tue, 16 Apr 2024) EllapsedTime: 57.0 seconds RetCode: 0 Status: OK PackageFile: proBAMr_1.36.0.zip PackageFileSize: 530.5 KiB