Package: proBAMr Version: 1.36.0 Command: /home/biocbuild/R/R-4.3.1/bin/R CMD INSTALL proBAMr StartedAt: 2023-11-01 20:30:52 -0000 (Wed, 01 Nov 2023) EndedAt: 2023-11-01 20:31:43 -0000 (Wed, 01 Nov 2023) EllapsedTime: 50.6 seconds RetCode: 0 Status: OK