Package: proBAMr Version: 1.36.0 Command: /home/biocbuild/R/R-4.3.1/bin/R CMD build --keep-empty-dirs --no-resave-data proBAMr StartedAt: 2023-11-02 04:41:23 -0000 (Thu, 02 Nov 2023) EndedAt: 2023-11-02 04:42:53 -0000 (Thu, 02 Nov 2023) EllapsedTime: 90.1 seconds RetCode: 0 Status: OK PackageFile: proBAMr_1.36.0.tar.gz PackageFileSize: 809.7 KiB