Package: primirTSS Version: 1.20.0 Command: /Library/Frameworks/R.framework/Resources/bin/R CMD build --keep-empty-dirs --no-resave-data primirTSS StartedAt: 2024-04-15 20:58:39 -0400 (Mon, 15 Apr 2024) EndedAt: 2024-04-15 21:00:43 -0400 (Mon, 15 Apr 2024) EllapsedTime: 123.3 seconds RetCode: 0 Status: OK PackageFile: primirTSS_1.20.0.tar.gz PackageFileSize: 3.662 MiB