Package: primirTSS Version: 1.20.0 Command: /Library/Frameworks/R.framework/Resources/bin/R CMD INSTALL primirTSS StartedAt: 2024-03-03 15:46:35 -0500 (Sun, 03 Mar 2024) EndedAt: 2024-03-03 15:47:33 -0500 (Sun, 03 Mar 2024) EllapsedTime: 57.5 seconds RetCode: 0 Status: OK