Package: primirTSS Version: 1.20.0 Command: /home/biocbuild/R/R-4.3.1/bin/R CMD INSTALL primirTSS StartedAt: 2023-11-01 21:06:29 -0000 (Wed, 01 Nov 2023) EndedAt: 2023-11-01 21:07:27 -0000 (Wed, 01 Nov 2023) EllapsedTime: 58.1 seconds RetCode: 0 Status: OK