Package: primirTSS Version: 1.20.0 Command: /home/biocbuild/R/R-4.3.1/bin/R CMD build --keep-empty-dirs --no-resave-data primirTSS StartedAt: 2023-11-02 04:40:32 -0000 (Thu, 02 Nov 2023) EndedAt: 2023-11-02 04:41:54 -0000 (Thu, 02 Nov 2023) EllapsedTime: 82.1 seconds RetCode: 0 Status: OK PackageFile: primirTSS_1.20.0.tar.gz PackageFileSize: 3.663 MiB