Package: preprocessCore Version: 1.64.0 Command: /Library/Frameworks/R.framework/Resources/bin/R CMD check --install=check:preprocessCore.install-out.txt --library=/Library/Frameworks/R.framework/Resources/library --no-vignettes --timings preprocessCore_1.64.0.tar.gz StartedAt: 2024-03-03 22:38:37 -0500 (Sun, 03 Mar 2024) EndedAt: 2024-03-03 22:39:08 -0500 (Sun, 03 Mar 2024) EllapsedTime: 30.5 seconds RetCode: 0 Status: WARNINGS CheckDir: preprocessCore.Rcheck Warnings: 1