Package: preprocessCore Version: 1.64.0 Command: /home/biocbuild/R/R-4.3.1/bin/R CMD build --keep-empty-dirs --no-resave-data preprocessCore StartedAt: 2023-11-02 04:40:31 -0000 (Thu, 02 Nov 2023) EndedAt: 2023-11-02 04:40:32 -0000 (Thu, 02 Nov 2023) EllapsedTime: 1.0 seconds RetCode: 0 Status: OK PackageFile: preprocessCore_1.64.0.tar.gz PackageFileSize: 121.1 KiB