Package: powerTCR Version: 1.22.0 Command: chmod a+r powerTCR -R && F:\biocbuild\bbs-3.18-bioc\R\bin\R.exe CMD build --keep-empty-dirs --no-resave-data powerTCR StartedAt: 2024-04-15 20:21:10 -0400 (Mon, 15 Apr 2024) EndedAt: 2024-04-15 20:22:56 -0400 (Mon, 15 Apr 2024) EllapsedTime: 106.0 seconds RetCode: 0 Status: OK PackageFile: powerTCR_1.22.0.tar.gz PackageFileSize: 320 KiB