Package: powerTCR Version: 1.22.0 Command: /home/biocbuild/R/R-4.3.1/bin/R CMD check --install=check:powerTCR.install-out.txt --library=/home/biocbuild/R/R-4.3.1/site-library --no-vignettes --timings powerTCR_1.22.0.tar.gz StartedAt: 2023-11-02 13:11:24 -0000 (Thu, 02 Nov 2023) EndedAt: 2023-11-02 13:13:28 -0000 (Thu, 02 Nov 2023) EllapsedTime: 123.2 seconds RetCode: 0 Status: WARNINGS CheckDir: powerTCR.Rcheck Warnings: 1