Package: podkat Version: 1.34.0 Command: /Library/Frameworks/R.framework/Resources/bin/R CMD build --keep-empty-dirs --no-resave-data podkat StartedAt: 2024-04-15 20:56:10 -0400 (Mon, 15 Apr 2024) EndedAt: 2024-04-15 21:01:57 -0400 (Mon, 15 Apr 2024) EllapsedTime: 347.5 seconds RetCode: 0 Status: OK PackageFile: podkat_1.34.0.tar.gz PackageFileSize: 1.087 MiB