Package: podkat Version: 1.34.0 Command: rm -rf podkat.buildbin-libdir && mkdir podkat.buildbin-libdir && /Users/biocbuild/BBS/utils/build-universal.sh podkat_1.34.0.tar.gz /Library/Frameworks/R.framework/Resources/bin/R podkat.buildbin-libdir StartedAt: 2024-03-04 00:56:34 -0500 (Mon, 04 Mar 2024) EndedAt: 2024-03-04 00:58:32 -0500 (Mon, 04 Mar 2024) EllapsedTime: 117.7 seconds RetCode: 0 Status: OK PackageFile: podkat_1.34.0.tgz PackageFileSize: 2.379 MiB