Package: pmm Version: 1.34.0 Maintainer: Anna Drewek MaintainerEmail: adrewek at stat.math.ethz.ch git_url: https://git.bioconductor.org/packages/pmm git_branch: RELEASE_3_18 git_last_commit: ae47cab git_last_commit_date: 2023-10-24 10:42:38 -0400 (Tue, 24 Oct 2023)