Package: plyinteractions Version: 1.0.0 Command: /home/biocbuild/R/R-4.3.1/bin/R CMD build --keep-empty-dirs --no-resave-data plyinteractions StartedAt: 2023-11-02 04:36:36 -0000 (Thu, 02 Nov 2023) EndedAt: 2023-11-02 05:16:37 -0000 (Thu, 02 Nov 2023) EllapsedTime: 2400.1 seconds RetCode: None Status: TIMEOUT PackageFile: None PackageFileSize: NA