Package: plotgardener Version: 1.8.3 Command: rm -rf plotgardener.buildbin-libdir && mkdir plotgardener.buildbin-libdir && F:\biocbuild\bbs-3.18-bioc\R\bin\R.exe CMD INSTALL --build --library=plotgardener.buildbin-libdir plotgardener_1.8.3.tar.gz StartedAt: 2024-04-16 07:26:55 -0400 (Tue, 16 Apr 2024) EndedAt: 2024-04-16 07:28:14 -0400 (Tue, 16 Apr 2024) EllapsedTime: 78.7 seconds RetCode: 0 Status: OK PackageFile: plotgardener_1.8.3.zip PackageFileSize: 3.609 MiB