Package: plotgardener Version: 1.8.3 Command: /Library/Frameworks/R.framework/Resources/bin/R CMD INSTALL plotgardener StartedAt: 2024-04-15 15:37:28 -0400 (Mon, 15 Apr 2024) EndedAt: 2024-04-15 15:39:24 -0400 (Mon, 15 Apr 2024) EllapsedTime: 116.4 seconds RetCode: 0 Status: OK