Package: plotgardener Version: 1.8.3 Command: /Library/Frameworks/R.framework/Resources/bin/R CMD check --install=check:plotgardener.install-out.txt --library=/Library/Frameworks/R.framework/Resources/library --no-vignettes --timings plotgardener_1.8.3.tar.gz StartedAt: 2024-04-16 07:00:00 -0400 (Tue, 16 Apr 2024) EndedAt: 2024-04-16 07:12:43 -0400 (Tue, 16 Apr 2024) EllapsedTime: 762.6 seconds RetCode: 0 Status: OK CheckDir: plotgardener.Rcheck Warnings: 0