Package: plotGrouper Version: 1.20.0 Command: /home/biocbuild/bbs-3.18-bioc/R/bin/R CMD build --keep-empty-dirs --no-resave-data plotGrouper StartedAt: 2024-04-15 18:33:39 -0400 (Mon, 15 Apr 2024) EndedAt: 2024-04-15 18:33:46 -0400 (Mon, 15 Apr 2024) EllapsedTime: 7.3 seconds RetCode: 0 Status: OK PackageFile: plotGrouper_1.20.0.tar.gz PackageFileSize: 704.3 KiB