Package: plotGrouper Version: 1.20.0 Command: /Library/Frameworks/R.framework/Resources/bin/R CMD INSTALL plotGrouper StartedAt: 2024-04-15 16:34:14 -0400 (Mon, 15 Apr 2024) EndedAt: 2024-04-15 16:34:38 -0400 (Mon, 15 Apr 2024) EllapsedTime: 23.8 seconds RetCode: 0 Status: OK