Package: plotGrouper Version: 1.20.0 Command: /Library/Frameworks/R.framework/Resources/bin/R CMD check --install=check:plotGrouper.install-out.txt --library=/Library/Frameworks/R.framework/Resources/library --no-vignettes --timings plotGrouper_1.20.0.tar.gz StartedAt: 2024-04-16 07:00:10 -0400 (Tue, 16 Apr 2024) EndedAt: 2024-04-16 07:01:57 -0400 (Tue, 16 Apr 2024) EllapsedTime: 107.8 seconds RetCode: 0 Status: OK CheckDir: plotGrouper.Rcheck Warnings: 0