Package: plotGrouper Version: 1.20.0 Command: /Library/Frameworks/R.framework/Resources/bin/R CMD build --keep-empty-dirs --no-resave-data plotGrouper StartedAt: 2024-04-15 20:55:39 -0400 (Mon, 15 Apr 2024) EndedAt: 2024-04-15 20:55:58 -0400 (Mon, 15 Apr 2024) EllapsedTime: 18.7 seconds RetCode: 0 Status: OK PackageFile: plotGrouper_1.20.0.tar.gz PackageFileSize: 704.3 KiB