Package: plotGrouper Version: 1.20.0 Command: rm -rf plotGrouper.buildbin-libdir && mkdir plotGrouper.buildbin-libdir && /Users/biocbuild/BBS/utils/build-universal.sh plotGrouper_1.20.0.tar.gz /Library/Frameworks/R.framework/Resources/bin/R plotGrouper.buildbin-libdir StartedAt: 2024-04-16 12:26:03 -0400 (Tue, 16 Apr 2024) EndedAt: 2024-04-16 12:26:18 -0400 (Tue, 16 Apr 2024) EllapsedTime: 15.3 seconds RetCode: 0 Status: OK PackageFile: plotGrouper_1.20.0.tgz PackageFileSize: 369.5 KiB