Package: plotGrouper Version: 1.20.0 Command: /home/biocbuild/R/R-4.3.1/bin/R CMD check --install=check:plotGrouper.install-out.txt --library=/home/biocbuild/R/R-4.3.1/site-library --no-vignettes --timings plotGrouper_1.20.0.tar.gz StartedAt: 2023-11-02 13:08:53 -0000 (Thu, 02 Nov 2023) EndedAt: 2023-11-02 13:09:50 -0000 (Thu, 02 Nov 2023) EllapsedTime: 57.1 seconds RetCode: 0 Status: OK CheckDir: plotGrouper.Rcheck Warnings: 0