Package: plethy Version: 1.40.0 Command: F:\biocbuild\bbs-3.18-bioc\R\bin\R.exe CMD INSTALL plethy StartedAt: 2024-04-15 15:51:20 -0400 (Mon, 15 Apr 2024) EndedAt: 2024-04-15 15:51:26 -0400 (Mon, 15 Apr 2024) EllapsedTime: 6.3 seconds RetCode: 1 Status: ERROR