############################################################################## ############################################################################## ### ### Running command: ### ### chmod a+r plethy -R && F:\biocbuild\bbs-3.18-bioc\R\bin\R.exe CMD build --keep-empty-dirs --no-resave-data plethy ### ############################################################################## ############################################################################## * checking for file 'plethy/DESCRIPTION' ... OK * preparing 'plethy': * checking DESCRIPTION meta-information ... OK * installing the package to build vignettes ----------------------------------- * installing *source* package 'plethy' ... ** using staged installation ** R Error in .install_package_code_files(".", instdir) : files in 'Collate' field missing from 'F:/biocbuild/bbs-3.18-bioc/tmpdir/Rtmp8kZjuF/Rbuild3a8c6f687f26/plethy/R': zzz.R ERROR: unable to collate and parse R files for package 'plethy' * removing 'F:/biocbuild/bbs-3.18-bioc/tmpdir/Rtmp8kZjuF/Rinst3a8c50796907/plethy' ----------------------------------- ERROR: package installation failed