Package: plethy Version: 1.40.0 Command: /home/biocbuild/bbs-3.18-bioc/R/bin/R CMD INSTALL plethy StartedAt: 2024-04-15 15:15:38 -0400 (Mon, 15 Apr 2024) EndedAt: 2024-04-15 15:15:39 -0400 (Mon, 15 Apr 2024) EllapsedTime: 0.4 seconds RetCode: 1 Status: ERROR