Package: plethy Version: 1.39.0 Command: /home/biocbuild/bbs-3.18-bioc/R/bin/R CMD check --install=check:plethy.install-out.txt --library=/home/biocbuild/bbs-3.18-bioc/R/site-library --timings plethy_1.39.0.tar.gz StartedAt: 2023-06-26 23:50:52 -0400 (Mon, 26 Jun 2023) EndedAt: 2023-06-26 23:53:01 -0400 (Mon, 26 Jun 2023) EllapsedTime: 129.9 seconds RetCode: 1 Status: ERROR CheckDir: plethy.Rcheck Warnings: NA