Package: plethy Version: 1.39.0 Command: rm -rf plethy.buildbin-libdir && mkdir plethy.buildbin-libdir && /Users/biocbuild/BBS/utils/build-universal.sh plethy_1.39.0.tar.gz /Library/Frameworks/R.framework/Resources/bin/R plethy.buildbin-libdir StartedAt: 2023-06-26 23:35:06 -0400 (Mon, 26 Jun 2023) EndedAt: 2023-06-26 23:35:27 -0400 (Mon, 26 Jun 2023) EllapsedTime: 20.9 seconds RetCode: 0 Status: OK PackageFile: plethy_1.39.0.tgz PackageFileSize: 1.308 MiB