Package: plethy Version: 1.39.0 Command: /home/biocbuild/R/R-4.3.1/bin/R CMD check --install=check:plethy.install-out.txt --library=/home/biocbuild/R/R-4.3.1/site-library --timings plethy_1.39.0.tar.gz StartedAt: 2023-06-27 07:55:35 -0000 (Tue, 27 Jun 2023) EndedAt: 2023-06-27 07:58:25 -0000 (Tue, 27 Jun 2023) EllapsedTime: 170.3 seconds RetCode: 1 Status: ERROR CheckDir: plethy.Rcheck Warnings: NA