Package: plethy Version: 1.40.0 Command: /home/biocbuild/R/R-4.3.1/bin/R CMD build --keep-empty-dirs --no-resave-data plethy StartedAt: 2023-11-02 04:35:53 -0000 (Thu, 02 Nov 2023) EndedAt: 2023-11-02 04:35:54 -0000 (Thu, 02 Nov 2023) EllapsedTime: 1.0 seconds RetCode: 1 Status: ERROR PackageFile: None PackageFileSize: NA