Package: plasmut Version: 1.0.0 Command: /home/biocbuild/bbs-3.18-bioc/R/bin/R CMD build --keep-empty-dirs --no-resave-data plasmut StartedAt: 2024-04-15 18:33:27 -0400 (Mon, 15 Apr 2024) EndedAt: 2024-04-15 18:35:41 -0400 (Mon, 15 Apr 2024) EllapsedTime: 133.7 seconds RetCode: 0 Status: OK PackageFile: plasmut_1.0.0.tar.gz PackageFileSize: 323.3 KiB