Package: plasmut Version: 1.0.0 Command: rm -rf plasmut.buildbin-libdir && mkdir plasmut.buildbin-libdir && /Users/biocbuild/BBS/utils/build-universal.sh plasmut_1.0.0.tar.gz /Library/Frameworks/R.framework/Resources/bin/R plasmut.buildbin-libdir StartedAt: 2024-04-16 12:25:50 -0400 (Tue, 16 Apr 2024) EndedAt: 2024-04-16 12:25:58 -0400 (Tue, 16 Apr 2024) EllapsedTime: 7.8 seconds RetCode: 0 Status: OK PackageFile: plasmut_1.0.0.tgz PackageFileSize: 357.7 KiB