Package: pkgDepTools Version: 1.65.1 Command: /home/biocbuild/bbs-3.18-bioc/R/bin/R CMD INSTALL pkgDepTools StartedAt: 2023-04-20 03:09:23 -0400 (Thu, 20 Apr 2023) EndedAt: 2023-04-20 03:09:26 -0400 (Thu, 20 Apr 2023) EllapsedTime: 3.0 seconds RetCode: 0 Status: OK