Package: pkgDepTools Version: 1.65.1 Command: /home/biocbuild/bbs-3.18-bioc/R/bin/R CMD build --keep-empty-dirs --no-resave-data pkgDepTools StartedAt: 2023-04-20 05:24:59 -0400 (Thu, 20 Apr 2023) EndedAt: 2023-04-20 05:25:04 -0400 (Thu, 20 Apr 2023) EllapsedTime: 5.3 seconds RetCode: 1 Status: ERROR PackageFile: None PackageFileSize: NA