git_url: https://git.bioconductor.org/packages/pkgDepTools git_branch: devel git_last_commit: fea3b6d git_last_commit_date: 2023-01-06 13:06:59 -0400 (Fri, 06 Jan 2023) Package: pkgDepTools Version: 1.65.1 Maintainer: Bioconductor Package Maintainer MaintainerEmail: maintainer at bioconductor.org