Package: pipeFrame Version: 1.18.0 Command: /Library/Frameworks/R.framework/Resources/bin/R CMD INSTALL pipeFrame StartedAt: 2024-04-15 15:41:06 -0400 (Mon, 15 Apr 2024) EndedAt: 2024-04-15 15:42:13 -0400 (Mon, 15 Apr 2024) EllapsedTime: 66.9 seconds RetCode: 0 Status: OK