Package: pipeComp Version: 1.12.0 Command: chmod a+r pipeComp -R && F:\biocbuild\bbs-3.18-bioc\R\bin\R.exe CMD build --keep-empty-dirs --no-resave-data pipeComp StartedAt: 2024-04-15 20:18:58 -0400 (Mon, 15 Apr 2024) EndedAt: 2024-04-15 20:22:15 -0400 (Mon, 15 Apr 2024) EllapsedTime: 196.8 seconds RetCode: 0 Status: OK PackageFile: pipeComp_1.12.0.tar.gz PackageFileSize: 2.802 MiB