Package: pipeComp Version: 1.12.0 Command: rm -rf pipeComp.buildbin-libdir && mkdir pipeComp.buildbin-libdir && F:\biocbuild\bbs-3.18-bioc\R\bin\R.exe CMD INSTALL --build --library=pipeComp.buildbin-libdir pipeComp_1.12.0.tar.gz StartedAt: 2024-04-16 07:26:40 -0400 (Tue, 16 Apr 2024) EndedAt: 2024-04-16 07:28:06 -0400 (Tue, 16 Apr 2024) EllapsedTime: 86.6 seconds RetCode: 0 Status: OK PackageFile: pipeComp_1.12.0.zip PackageFileSize: 3.316 MiB