Package: pipeComp Version: 1.12.0 Command: /Library/Frameworks/R.framework/Resources/bin/R CMD INSTALL pipeComp StartedAt: 2024-04-15 16:28:56 -0400 (Mon, 15 Apr 2024) EndedAt: 2024-04-15 16:31:05 -0400 (Mon, 15 Apr 2024) EllapsedTime: 129.0 seconds RetCode: 0 Status: OK