Package: pipeComp Version: 1.12.0 Command: /Library/Frameworks/R.framework/Resources/bin/R CMD check --install=check:pipeComp.install-out.txt --library=/Library/Frameworks/R.framework/Resources/library --no-vignettes --timings pipeComp_1.12.0.tar.gz StartedAt: 2024-04-16 06:57:10 -0400 (Tue, 16 Apr 2024) EndedAt: 2024-04-16 07:10:28 -0400 (Tue, 16 Apr 2024) EllapsedTime: 798.7 seconds RetCode: 0 Status: OK CheckDir: pipeComp.Rcheck Warnings: 0