Package: pipeComp Version: 1.12.0 Command: /Library/Frameworks/R.framework/Resources/bin/R CMD build --keep-empty-dirs --no-resave-data pipeComp StartedAt: 2024-04-15 20:54:33 -0400 (Mon, 15 Apr 2024) EndedAt: 2024-04-15 20:58:37 -0400 (Mon, 15 Apr 2024) EllapsedTime: 244.3 seconds RetCode: 0 Status: OK PackageFile: pipeComp_1.12.0.tar.gz PackageFileSize: 4.005 MiB