Package: pipeComp Version: 1.12.0 Command: rm -rf pipeComp.buildbin-libdir && mkdir pipeComp.buildbin-libdir && /Users/biocbuild/BBS/utils/build-universal.sh pipeComp_1.12.0.tar.gz /Library/Frameworks/R.framework/Resources/bin/R pipeComp.buildbin-libdir StartedAt: 2024-04-16 12:25:37 -0400 (Tue, 16 Apr 2024) EndedAt: 2024-04-16 12:27:48 -0400 (Tue, 16 Apr 2024) EllapsedTime: 130.9 seconds RetCode: 0 Status: OK PackageFile: pipeComp_1.12.0.tgz PackageFileSize: 4.513 MiB