Package: pipeComp Version: 1.12.0 Command: /home/biocbuild/R/R-4.3.1/bin/R CMD INSTALL pipeComp StartedAt: 2023-11-01 20:58:01 -0000 (Wed, 01 Nov 2023) EndedAt: 2023-11-01 20:59:22 -0000 (Wed, 01 Nov 2023) EllapsedTime: 80.9 seconds RetCode: 0 Status: OK