Package: phyloseq Version: 1.46.0 Command: /home/biocbuild/bbs-3.18-bioc/R/bin/R CMD build --keep-empty-dirs --no-resave-data phyloseq StartedAt: 2024-04-15 18:32:46 -0400 (Mon, 15 Apr 2024) EndedAt: 2024-04-15 18:34:32 -0400 (Mon, 15 Apr 2024) EllapsedTime: 105.7 seconds RetCode: 0 Status: OK PackageFile: phyloseq_1.46.0.tar.gz PackageFileSize: 5.519 MiB