Package: phyloseq Version: 1.46.0 Command: /Library/Frameworks/R.framework/Resources/bin/R CMD check --install=check:phyloseq.install-out.txt --library=/Library/Frameworks/R.framework/Resources/library --no-vignettes --timings phyloseq_1.46.0.tar.gz StartedAt: 2024-03-03 22:33:38 -0500 (Sun, 03 Mar 2024) EndedAt: 2024-03-03 22:38:50 -0500 (Sun, 03 Mar 2024) EllapsedTime: 311.5 seconds RetCode: 0 Status: WARNINGS CheckDir: phyloseq.Rcheck Warnings: 1