Package: phyloseq Version: 1.46.0 Command: rm -rf phyloseq.buildbin-libdir && mkdir phyloseq.buildbin-libdir && /Users/biocbuild/BBS/utils/build-universal.sh phyloseq_1.46.0.tar.gz /Library/Frameworks/R.framework/Resources/bin/R phyloseq.buildbin-libdir StartedAt: 2024-03-04 00:56:07 -0500 (Mon, 04 Mar 2024) EndedAt: 2024-03-04 00:56:49 -0500 (Mon, 04 Mar 2024) EllapsedTime: 42.3 seconds RetCode: 0 Status: OK PackageFile: phyloseq_1.46.0.tgz PackageFileSize: 6.361 MiB