Package: phosphonormalizer Version: 1.26.0 Command: rm -rf phosphonormalizer.buildbin-libdir && mkdir phosphonormalizer.buildbin-libdir && F:\biocbuild\bbs-3.18-bioc\R\bin\R.exe CMD INSTALL --build --library=phosphonormalizer.buildbin-libdir phosphonormalizer_1.26.0.tar.gz StartedAt: 2024-04-16 07:26:23 -0400 (Tue, 16 Apr 2024) EndedAt: 2024-04-16 07:26:38 -0400 (Tue, 16 Apr 2024) EllapsedTime: 14.6 seconds RetCode: 0 Status: OK PackageFile: phosphonormalizer_1.26.0.zip PackageFileSize: 2.605 MiB